BEGIN:VCALENDAR
VERSION:2.0
PRODID:-//hacksw/handcal//NONSGML v1.0//EN
CALSCALE:GREGORIAN
BEGIN:VEVENT
LOCATION:Hitchcock Nature Center\, 27792 Ski Hill Loop\, Honey Creek\, Iowa 51542
DESCRIPTION:Young learners will experience nature first-hand during this self-guided hike full of fun.
DTSTART:20210306T060000
DTEND:20210306T220000
SUMMARY:Little Tike Hike
URL;VALUE=URI:https://www.pottconservation.com/calendar/little_tike_hike/2021-03-06/
DTSTAMP:20260420T202233
UID:69e6d1594fa57
END:VEVENT
END:VCALENDAR