BEGIN:VCALENDAR
VERSION:2.0
PRODID:-//hacksw/handcal//NONSGML v1.0//EN
CALSCALE:GREGORIAN
BEGIN:VEVENT
LOCATION:Botna Bend Park\, 42926 Mahogany Road\, Hancock\, Iowa 51536
DESCRIPTION:Young learners will experience nature first-hand during this self-guided hike full of fun.
DTSTART:20210403T063000
DTEND:20210403T223000
SUMMARY:Little Tike Hike at Botna Bend Park 
URL;VALUE=URI:https://www.pottconservation.com/calendar/little_tike_hike_at_botna_bend_park_/2021-04-03/
DTSTAMP:20260420T220011
UID:69e6e83b26917
END:VEVENT
END:VCALENDAR