BEGIN:VCALENDAR
VERSION:2.0
PRODID:-//hacksw/handcal//NONSGML v1.0//EN
CALSCALE:GREGORIAN
BEGIN:VEVENT
LOCATION:Hitchcock Nature Center\, 27792 Ski Hill Loop\, Honey Creek\, Iowa 51542
DESCRIPTION:Young learners will experience nature first-hand during this self-guided hike full of fun.
DTSTART:20210501T060000
DTEND:20210501T220000
SUMMARY:Little Tike Hike at Hitchcock Nature Center
URL;VALUE=URI:https://www.pottconservation.com/calendar/little_tike_hike_at_hitchcock_nature_center/2021-05-01/
DTSTAMP:20260420T232440
UID:69e6fc08d3a26
END:VEVENT
END:VCALENDAR