BEGIN:VCALENDAR
VERSION:2.0
PRODID:-//hacksw/handcal//NONSGML v1.0//EN
CALSCALE:GREGORIAN
BEGIN:VEVENT
LOCATION:Botna Bend Park\, 42926 Mahogany Road\, Hancock\, Iowa 51536
DESCRIPTION:Families with young learners are invited to hit the trails for a self-guided hike full of fun nature learning at Botna Bend Park!
DTSTART:20220402T063000
DTEND:20220402T223000
SUMMARY:Little Tike Hike | Botna Bend Park
URL;VALUE=URI:https://www.pottconservation.com/calendar/little_tike_hike_botna_bend_park/2022-04-02/
DTSTAMP:20260423T064256
UID:69ea05c08df02
END:VEVENT
END:VCALENDAR