BEGIN:VCALENDAR
VERSION:2.0
PRODID:-//hacksw/handcal//NONSGML v1.0//EN
CALSCALE:GREGORIAN
BEGIN:VEVENT
LOCATION:Botna Bend Park\, 42926 Mahogany Road\, Hancock\, Iowa 51536
DESCRIPTION:Families with young learners are invited to hit the trails for a self-guided hike full of fun nature learning at Botna Bend Park!
DTSTART:20220507T063000
DTEND:20220507T223000
SUMMARY:Little Tike Hike | Botna Bend Park
URL;VALUE=URI:https://www.pottconservation.com/calendar/little_tike_hike_botna_bend_park/2022-05-07/
DTSTAMP:20260423T082331
UID:69ea1d53e8801
END:VEVENT
END:VCALENDAR