BEGIN:VCALENDAR
VERSION:2.0
PRODID:-//hacksw/handcal//NONSGML v1.0//EN
CALSCALE:GREGORIAN
BEGIN:VEVENT
LOCATION:Hitchcock Nature Center\, 27792 Ski Hill Loop\, Honey Creek\, Iowa 51542
DESCRIPTION:Families with young learners are invited to hit the trails for a self-guided hike full of fun nature learning at Hitchcock Nature Center!
DTSTART:20220402T060000
DTEND:20220402T220000
SUMMARY:Little Tike Hike | Hitchcock Nature Center
URL;VALUE=URI:https://www.pottconservation.com/calendar/little_tike_hike_hitchcock_nature_center/2022-04-02/
DTSTAMP:20260423T064255
UID:69ea05bfdc879
END:VEVENT
END:VCALENDAR