BEGIN:VCALENDAR
VERSION:2.0
PRODID:-//hacksw/handcal//NONSGML v1.0//EN
CALSCALE:GREGORIAN
BEGIN:VEVENT
LOCATION:Hitchcock Nature Center\, 27792 Ski Hill Loop\, Honey Creek\, Iowa 51542
DESCRIPTION:Families with young learners are invited to hit the trails for a self-guided hike full of fun nature learning at Hitchcock Nature Center!
DTSTART:20220604T060000
DTEND:20220604T220000
SUMMARY:Little Tike Hike | Hitchcock Nature Center
URL;VALUE=URI:https://www.pottconservation.com/calendar/little_tike_hike_hitchcock_nature_center/2022-06-04/
DTSTAMP:20260420T010355
UID:69e5c1cb6fce2
END:VEVENT
END:VCALENDAR