BEGIN:VCALENDAR
VERSION:2.0
PRODID:-//hacksw/handcal//NONSGML v1.0//EN
CALSCALE:GREGORIAN
BEGIN:VEVENT
LOCATION:Hitchcock Nature Center\, 27792 Ski Hill Loop\, Honey Creek\, Iowa 51542
DESCRIPTION:Families with young learners are invited to hit the trails for a self-guided hike full of fun nature learning at Hitchcock Nature Center!
DTSTART:20220806T060000
DTEND:20220806T220000
SUMMARY:Little Tike Hike | Hitchcock Nature Center
URL;VALUE=URI:https://www.pottconservation.com/calendar/little_tike_hike_hitchcock_nature_center/2022-08-06/
DTSTAMP:20260425T095911
UID:69ecd6bfa0f8c
END:VEVENT
END:VCALENDAR