BEGIN:VCALENDAR
VERSION:2.0
PRODID:-//hacksw/handcal//NONSGML v1.0//EN
CALSCALE:GREGORIAN
BEGIN:VEVENT
LOCATION:Hitchcock Nature Center\, 27792 Ski Hill Loop\, Honey Creek\, Iowa 51542
DESCRIPTION:Join naturalist and student of folklore Dustin Clayton for an evening hike through the Halloween forest.
DTSTART:20221029T150000
DTEND:20221029T173000
SUMMARY:3rd Annual Halloween Witchy Woods Walk
URL;VALUE=URI:https://www.pottconservation.com/calendar/loess_hills_3rd_annual_halloween_witchy_woods_walk/2022-10-29/
DTSTAMP:20260425T053814
UID:69ec999631b5a
END:VEVENT
END:VCALENDAR