BEGIN:VCALENDAR
VERSION:2.0
PRODID:-//hacksw/handcal//NONSGML v1.0//EN
CALSCALE:GREGORIAN
BEGIN:VEVENT
LOCATION:Hitchcock Nature Center\, 27792 Ski Hill Loop\, Honey Creek\, Iowa 51542
DESCRIPTION:Join our friends at Golden Hills RC&amp\;D and help collect native prairie seed! 
DTSTART:20231023T170000
DTEND:20231023T190000
SUMMARY:Loess Hills Prairie Seed Harvest
URL;VALUE=URI:https://www.pottconservation.com/calendar/loess_hills_prairie_seed_harvest/2023-10-23/
DTSTAMP:20260420T193257
UID:69e6c5b9b8dd1
END:VEVENT
END:VCALENDAR