BEGIN:VCALENDAR
VERSION:2.0
PRODID:-//hacksw/handcal//NONSGML v1.0//EN
CALSCALE:GREGORIAN
BEGIN:VEVENT
LOCATION:Hitchcock Nature Center\, 27792 Ski Hill Loop\, Honey Creek\, Iowa 51542
DESCRIPTION:Enjoy the beauty &amp\; romance of nature in Iowa&#039\;s Loess Hills.
DTSTART:20210213T170000
DTEND:20210213T183000
SUMMARY:Lovebirds in Nature
URL;VALUE=URI:https://www.pottconservation.com/calendar/lovebirds_in_nature/2021-02-13/
DTSTAMP:20260420T183928
UID:69e6b930ad85c
END:VEVENT
END:VCALENDAR