BEGIN:VCALENDAR
VERSION:2.0
PRODID:-//hacksw/handcal//NONSGML v1.0//EN
CALSCALE:GREGORIAN
BEGIN:VEVENT
LOCATION:Botna Bend Park\, 42926 Mahogany Road\, Hancock\, Iowa 51536
DESCRIPTION:Learn about the process of tapping &amp\; processing maple syrup at beautiful Botna Bend Park. 
DTSTART:20210306T110000
DTEND:20210306T160000
SUMMARY:Maple Tree Tap
URL;VALUE=URI:https://www.pottconservation.com/calendar/maple_tree_tap/2021-03-06/
DTSTAMP:20260420T200624
UID:69e6cd901024c
END:VEVENT
END:VCALENDAR