BEGIN:VCALENDAR
VERSION:2.0
PRODID:-//hacksw/handcal//NONSGML v1.0//EN
CALSCALE:GREGORIAN
BEGIN:VEVENT
LOCATION:Botna Bend Park\, 42926 Mahogany Road\, Hancock\, Iowa 51536
DESCRIPTION:It&#039\;s that time of year again! Bring the family out for our annual Maple Tree Tap at Botna Bend Park in Hancock\, Iowa. 
DTSTART:20240302T110000
DTEND:20240302T150000
SUMMARY:Maple Tree Tap
URL;VALUE=URI:https://www.pottconservation.com/calendar/maple_tree_tap/2024-03-02/
DTSTAMP:20260423T211129
UID:69ead151d48db
END:VEVENT
END:VCALENDAR