BEGIN:VCALENDAR
VERSION:2.0
PRODID:-//hacksw/handcal//NONSGML v1.0//EN
CALSCALE:GREGORIAN
BEGIN:VEVENT
LOCATION:Botna Bend Park\, 42926 Mahogany Road\, Hancock\, Iowa 51536
DESCRIPTION:Who&#039\;s ready to try their hand at tapping homegrown maple syrup!? Bring the family out for our annual Maple Tree Tap at Botna Bend Park in Hancock\, Iowa. 
DTSTART:20220305T110000
DTEND:20220305T160000
SUMMARY:Maple Tree Tap: Now closing at 2 p.m. today
URL;VALUE=URI:https://www.pottconservation.com/calendar/maple_tree_tap_now_closing_at_2_pm_today/2022-03-05/
DTSTAMP:20260421T190452
UID:69e810a4c67ef
END:VEVENT
END:VCALENDAR