BEGIN:VCALENDAR
VERSION:2.0
PRODID:-//hacksw/handcal//NONSGML v1.0//EN
CALSCALE:GREGORIAN
BEGIN:VEVENT
LOCATION:Botna Bend Park\, 42926 Mahogany Road\, Hancock\, Iowa 51536
DESCRIPTION:Families with young learners are invited to hit the trails for a self-guided hike full of fun nature learning at Botna Bend Park!
DTSTART:20230506T063000
DTEND:20230506T223000
SUMMARY:May Little Tike Hike | Botna Bend Park
URL;VALUE=URI:https://www.pottconservation.com/calendar/may_little_tike_hike_botna_bend_park/2023-05-06/
DTSTAMP:20260420T225818
UID:69e6f5dad86c1
END:VEVENT
END:VCALENDAR