BEGIN:VCALENDAR
VERSION:2.0
PRODID:-//hacksw/handcal//NONSGML v1.0//EN
CALSCALE:GREGORIAN
BEGIN:VEVENT
LOCATION:Hitchcock Nature Center\, 27792 Ski Hill Loop\, Honey Creek\, Iowa 51542
DESCRIPTION:Meander along the trails of the lovely Loess Hills as we observe\, reflect\, and practice spaciousness. Autumn program themes include: Gratitude and Letting Go
DTSTART:20251018T090000
DTEND:20251018T110000
SUMMARY:Meander &amp\; Gander | A Mindfulness in Nature Program with Lindsay Knieper
URL;VALUE=URI:https://www.pottconservation.com/calendar/meander_gander_a_mindfulness_in_nature_program_with_lindsay_knieper/2025-10-18/
DTSTAMP:20260425T180039
UID:69ed479742329
END:VEVENT
END:VCALENDAR