BEGIN:VCALENDAR
VERSION:2.0
PRODID:-//hacksw/handcal//NONSGML v1.0//EN
CALSCALE:GREGORIAN
BEGIN:VEVENT
LOCATION:Hitchcock Nature Center\, 27792 Ski Hill Loop\, Honey Creek\, Iowa 51542
DESCRIPTION:Take a Summer Solstice hike while learning about the traditions\, folk practices\, and herbal preparations associated with this time of year.
DTSTART:20220618T150000
DTEND:20220618T173000
SUMMARY:Midsummer Magic | With Dustin Clayton
URL;VALUE=URI:https://www.pottconservation.com/calendar/midsummer_magic_with_dustin_clayton/2022-06-18/
DTSTAMP:20260422T042132
UID:69e8931c9c699
END:VEVENT
END:VCALENDAR