BEGIN:VCALENDAR
VERSION:2.0
PRODID:-//hacksw/handcal//NONSGML v1.0//EN
CALSCALE:GREGORIAN
BEGIN:VEVENT
LOCATION:Hitchcock Nature Center\, 27792 Ski Hill Loop\, Honey Creek\, Iowa 51542
DESCRIPTION:How in the world do you tag a butterfly? And why would you even try? Get all the answers &amp\; learn more about the amazing monarch butterfly during this all ages event. 
DTSTART:20200926T090000
DTEND:20200926T100000
SUMMARY:Monarch Tagging
URL;VALUE=URI:https://www.pottconservation.com/calendar/monarch_tagging/2020-09-26/
DTSTAMP:20260422T233748
UID:69e9a21c49bb0
END:VEVENT
END:VCALENDAR