BEGIN:VCALENDAR
VERSION:2.0
PRODID:-//hacksw/handcal//NONSGML v1.0//EN
CALSCALE:GREGORIAN
BEGIN:VEVENT
LOCATION:Hitchcock Nature Center\, 27792 Ski Hill Loop\, Honey Creek\, Iowa 51542
DESCRIPTION:Learn about monarch butterflies\, their life cycle\, and their miraculous migration to Mexico as we teach you how we catch\, handle\, and tag monarchs for research.
DTSTART:20220910T110000
DTEND:20220910T120000
SUMMARY:Monarch Tagging | 11 A.M.
URL;VALUE=URI:https://www.pottconservation.com/calendar/monarch_tagging_11_am/2022-09-10/
DTSTAMP:20260425T113333
UID:69ececdd0ae70
END:VEVENT
END:VCALENDAR