BEGIN:VCALENDAR
VERSION:2.0
PRODID:-//hacksw/handcal//NONSGML v1.0//EN
CALSCALE:GREGORIAN
BEGIN:VEVENT
LOCATION:Hitchcock Nature Center\, 27792 Ski Hill Loop\, Honey Creek\, Iowa 51542
DESCRIPTION:Come learn about monarch butterflies\, their life cycle and migration as we teach you how we catch\, handle\, and tag monarchs for research.
DTSTART:20210918T110000
DTEND:20210918T120000
SUMMARY:Monarch Tagging Pop Up #2
URL;VALUE=URI:https://www.pottconservation.com/calendar/monarch_tagging_pop_up_2/2021-09-18/
DTSTAMP:20260421T053328
UID:69e752787cb36
END:VEVENT
END:VCALENDAR