BEGIN:VCALENDAR
VERSION:2.0
PRODID:-//hacksw/handcal//NONSGML v1.0//EN
CALSCALE:GREGORIAN
BEGIN:VEVENT
LOCATION:Hitchcock Nature Center\, 27792 Ski Hill Loop\, Honey Creek\, Iowa 51542
DESCRIPTION:Explore nature &amp\; philosophy during this immersive program perfect for anyone who loves the great outdoors. 
DTSTART:20210508T090000
DTEND:20210508T120000
SUMMARY:Morels\, Fungi\, and Lichens
URL;VALUE=URI:https://www.pottconservation.com/calendar/morels_fungi_and_lichens/2021-05-08/
DTSTAMP:20260420T231500
UID:69e6f9c4d7070
END:VEVENT
END:VCALENDAR