BEGIN:VCALENDAR
VERSION:2.0
PRODID:-//hacksw/handcal//NONSGML v1.0//EN
CALSCALE:GREGORIAN
BEGIN:VEVENT
LOCATION:Crescent Hill at Hitchcock (Previously Mt. Crescent Ski Area)\, 17026 Snowhill Ln\, Honey Creek\, Iowa 51542
DESCRIPTION:Are you outgoing\, passionate about teaching ski and snowboarding skills\, and certified? Then join our fabulous crew of instructors this 22-23 season!
DTSTART:20221203T090000
DTEND:20221203T120000
SUMMARY:Mt. Crescent Instructor Job Fair
URL;VALUE=URI:https://www.pottconservation.com/calendar/mt_crescent_instructor_job_fair/2022-12-03/
DTSTAMP:20260425T085730
UID:69ecc84a265b0
END:VEVENT
END:VCALENDAR