BEGIN:VCALENDAR
VERSION:2.0
PRODID:-//hacksw/handcal//NONSGML v1.0//EN
CALSCALE:GREGORIAN
BEGIN:VEVENT
LOCATION:Crescent Hill at Hitchcock (Previously Mt. Crescent Ski Area)\, 17026 Snowhill Ln\, Honey Creek\, Iowa 51542
DESCRIPTION:Join us at Mt. Crescent and learn about seasonal job opportunities for the upcoming 22-23 ski season!
DTSTART:20221105T090000
DTEND:20221105T130000
SUMMARY:Mt. Crescent Job Fair
URL;VALUE=URI:https://www.pottconservation.com/calendar/mt_crescent_job_fair/2022-11-05/
DTSTAMP:20260425T072052
UID:69ecb1a4311b1
END:VEVENT
END:VCALENDAR