BEGIN:VCALENDAR
VERSION:2.0
PRODID:-//hacksw/handcal//NONSGML v1.0//EN
CALSCALE:GREGORIAN
BEGIN:VEVENT
LOCATION:Crescent Hill at Hitchcock (Previously Mt. Crescent Ski Area)\, 17026 Snowhill Ln\, Honey Creek\, Iowa 51542
DESCRIPTION:Learn about development options for Mt. Crescent Ski Area and share your ideas while enjoying food\, fun\, and community.
DTSTART:20231007T130000
DTEND:20231007T170000
SUMMARY:Mt. Crescent Open House | at Mt. Crescent Ski Area
URL;VALUE=URI:https://www.pottconservation.com/calendar/mt_crescent_planning_party_at_mt_crescent_ski_area/2023-10-07/
DTSTAMP:20260424T093850
UID:69eb807a2a946
END:VEVENT
END:VCALENDAR