BEGIN:VCALENDAR
VERSION:2.0
PRODID:-//hacksw/handcal//NONSGML v1.0//EN
CALSCALE:GREGORIAN
BEGIN:VEVENT
LOCATION:Hitchcock Nature Center\, 27792 Ski Hill Loop\, Honey Creek\, Iowa 51542
DESCRIPTION:Celebrate the new year under an open sky with a guided hike in the beautiful Loess Hills.
DTSTART:20251231T163000
DTEND:20251231T173000
SUMMARY:New Year&#039\;s Eve Sunset Hike
URL;VALUE=URI:https://www.pottconservation.com/calendar/new_years_eve_sunset_hike/2025-12-31/
DTSTAMP:20260425T211521
UID:69ed753944c6e
END:VEVENT
END:VCALENDAR