BEGIN:VCALENDAR
VERSION:2.0
PRODID:-//hacksw/handcal//NONSGML v1.0//EN
CALSCALE:GREGORIAN
BEGIN:VEVENT
LOCATION:Hitchcock Nature Center\, 27792 Ski Hill Loop\, Honey Creek\, Iowa 51542
DESCRIPTION:Nightjars are nocturnal\, owl-like birds that don&#039\;t build nests and have some funky behaviors. Join us for a late-night guided hike where you&#039\;ll get a special chance to hear their unique mating calls.
DTSTART:20260530T200000
DTEND:20260530T220000
SUMMARY:Night Out with Nightjars
URL;VALUE=URI:https://www.pottconservation.com/calendar/night_out_with_nightjars/2026-05-30/
DTSTAMP:20260423T095207
UID:69ea32173a620
END:VEVENT
END:VCALENDAR