BEGIN:VCALENDAR
VERSION:2.0
PRODID:-//hacksw/handcal//NONSGML v1.0//EN
CALSCALE:GREGORIAN
BEGIN:VEVENT
LOCATION:Hitchcock Nature Center\, 27792 Ski Hill Loop\, Honey Creek\, Iowa 51542
DESCRIPTION:Join us at Hitchcock Nature Center for a presentation&nbsp\;and trail walk with local birder Nic Salick that focuses on the nocturnal birds known as nightjars.
DTSTART:20220514T200000
DTEND:20220514T220000
SUMMARY:Night Out with Nightjars: With Nic Salick
URL;VALUE=URI:https://www.pottconservation.com/calendar/night_out_with_nightjars_with_nic_salick/2022-05-14/
DTSTAMP:20260423T122000
UID:69ea54c05f270
END:VEVENT
END:VCALENDAR