BEGIN:VCALENDAR
VERSION:2.0
PRODID:-//hacksw/handcal//NONSGML v1.0//EN
CALSCALE:GREGORIAN
BEGIN:VEVENT
LOCATION:Crescent Hill at Hitchcock (Previously Mt. Crescent Ski Area)\, 17026 Snowhill Ln\, Honey Creek\, Iowa 51542
DESCRIPTION:Join us for our BONUS final guided hike of the season and explore the Loess Hills at Mt. Crescent Ski Area!
DTSTART:20221018T180000
DTEND:20221018T200000
SUMMARY:October Hitch Hike | Mt. Crescent Ski Area
URL;VALUE=URI:https://www.pottconservation.com/calendar/october_hitch_hike_mt_crescent_ski_area/2022-10-18/
DTSTAMP:20260425T053724
UID:69ec996436e14
END:VEVENT
END:VCALENDAR