BEGIN:VCALENDAR
VERSION:2.0
PRODID:-//hacksw/handcal//NONSGML v1.0//EN
CALSCALE:GREGORIAN
BEGIN:VEVENT
LOCATION:Hitchcock Nature Center\, 27792 Ski Hill Loop\, Honey Creek\, Iowa 51542
DESCRIPTION:Celebrate Earth Day with Pottawattamie Conservation and join our park cleanup event at Hitchcock Nature Center.
DTSTART:20220423T090000
DTEND:20220423T150000
SUMMARY:Operation Dump Busters!
URL;VALUE=URI:https://www.pottconservation.com/calendar/operation_dump_busters/2022-04-23/
DTSTAMP:20260423T065206
UID:69ea07e6ac744
END:VEVENT
END:VCALENDAR