BEGIN:VCALENDAR
VERSION:2.0
PRODID:-//hacksw/handcal//NONSGML v1.0//EN
CALSCALE:GREGORIAN
BEGIN:VEVENT
LOCATION:Online\, \, \,  
DESCRIPTION:Explore nature &amp\; philosophy during this immersive program perfect for anyone who loves the great outdoors. 
DTSTART:20210911T090000
DTEND:20210911T120000
SUMMARY:Ornithology 101
URL;VALUE=URI:https://www.pottconservation.com/calendar/ornithology_101/2021-09-11/
DTSTAMP:20260421T052821
UID:69e751451ff38
END:VEVENT
END:VCALENDAR