BEGIN:VCALENDAR
VERSION:2.0
PRODID:-//hacksw/handcal//NONSGML v1.0//EN
CALSCALE:GREGORIAN
BEGIN:VEVENT
LOCATION:Hitchcock Nature Center\, 27792 Ski Hill Loop\, Honey Creek\, Iowa 51542
DESCRIPTION:Learn about native prairie flowers found in the Loess Hills and capture the beauty around you with watercolors.
DTSTART:20220828T090000
DTEND:20220828T110000
SUMMARY:Painting in the Prairie
URL;VALUE=URI:https://www.pottconservation.com/calendar/painting_in_the_prairie/2022-08-28/
DTSTAMP:20260425T095223
UID:69ecd5273dbb2
END:VEVENT
END:VCALENDAR