BEGIN:VCALENDAR
VERSION:2.0
PRODID:-//hacksw/handcal//NONSGML v1.0//EN
CALSCALE:GREGORIAN
BEGIN:VEVENT
LOCATION:Crescent Hill at Hitchcock (Previously Mt. Crescent Ski Area)\, 17026 Snowhill Ln\, Honey Creek\, Iowa 51542
DESCRIPTION:Bring your lawn chairs\, blankets\, binoculars\, and telescopes to view nature&#039\;s fireworks and other wonders in the night sky during the annual Perseids Meteor Shower.
DTSTART:20260814T200000
DTEND:20260814T233000
SUMMARY:Perseids Night Sky Event
URL;VALUE=URI:https://www.pottconservation.com/calendar/perseids_night_sky_event/2026-08-14/
DTSTAMP:20260425T111837
UID:69ece95d1ef0a
END:VEVENT
END:VCALENDAR