BEGIN:VCALENDAR
VERSION:2.0
PRODID:-//hacksw/handcal//NONSGML v1.0//EN
CALSCALE:GREGORIAN
BEGIN:VEVENT
LOCATION:Mt. Crescent Ski Area\, 17026 Snowhill Ln\, Honey Creek\, IA 51542
DESCRIPTION:Bring your lawn chairs\, blankets\, binoculars\, and telescopes to view nature&#039\;s fireworks and other wonders in the night sky during the annual Perseids Meteor Shower.
DTSTART:20220812T200000
DTEND:20220812T235900
SUMMARY:Perseids Shower Night Sky Event
URL;VALUE=URI:https://www.pottconservation.com/calendar/perseids_shower_night_sky_event/2022-08-12/
DTSTAMP:20260425T095438
UID:69ecd5ae07e9c
END:VEVENT
END:VCALENDAR