BEGIN:VCALENDAR
VERSION:2.0
PRODID:-//hacksw/handcal//NONSGML v1.0//EN
CALSCALE:GREGORIAN
BEGIN:VEVENT
LOCATION:Hitchcock Nature Center\, 27792 Ski Hill Loop\, Honey Creek\, Iowa 51542
DESCRIPTION:Learn what a membership to the Pottawattamie Conservation Foundation can do for you &amp\; for our natural areas.
DTSTART:20210424T100000
DTEND:20210424T130000
SUMMARY:Pottawattamie Conservation Foundation Member Appreciation Event
URL;VALUE=URI:https://www.pottconservation.com/calendar/pottawattamie_conservation_foundation_member_appreciation_event/2021-04-24/
DTSTAMP:20260420T215710
UID:69e6e7869e54a
END:VEVENT
END:VCALENDAR