BEGIN:VCALENDAR
VERSION:2.0
PRODID:-//hacksw/handcal//NONSGML v1.0//EN
CALSCALE:GREGORIAN
BEGIN:VEVENT
LOCATION:Hitchcock Nature Center\, 27792 Ski Hill Loop\, Honey Creek\, Iowa 51542
DESCRIPTION:Join our friends at Golden Hills RCD and help collect native prairie seed! 
DTSTART:20211010T170000
DTEND:20211010T190000
SUMMARY:Prairie Seed Harvest
URL;VALUE=URI:https://www.pottconservation.com/calendar/prairie_seed_harvest/2021-10-10/
DTSTAMP:20260421T070246
UID:69e76766bffea
END:VEVENT
END:VCALENDAR