BEGIN:VCALENDAR
VERSION:2.0
PRODID:-//hacksw/handcal//NONSGML v1.0//EN
CALSCALE:GREGORIAN
BEGIN:VEVENT
LOCATION:Hitchcock Nature Center\, 27792 Ski Hill Loop\, Honey Creek\, Iowa 51542
DESCRIPTION:Join our friends at Golden Hills RCD and help collect native prairie seed! 
DTSTART:20220927T180000
DTEND:20220927T193000
SUMMARY:Prairie Seed Harvest | Golden Hills RC&amp\;D
URL;VALUE=URI:https://www.pottconservation.com/calendar/prairie_seed_harvest_golden_hills_rcampd/2022-09-27/
DTSTAMP:20260425T113531
UID:69eced53658c5
END:VEVENT
END:VCALENDAR