BEGIN:VCALENDAR
VERSION:2.0
PRODID:-//hacksw/handcal//NONSGML v1.0//EN
CALSCALE:GREGORIAN
BEGIN:VEVENT
LOCATION:Hitchcock Nature Center\, 27792 Ski Hill Loop\, Honey Creek\, Iowa 51542
DESCRIPTION:
DTSTART:20221017T183000
DTEND:20221017T200000
SUMMARY:Raptor Club: Fall Hawk Identification with Josh Haas
URL;VALUE=URI:https://www.pottconservation.com/calendar/raptor_club_fall_hawk_identification_with_josh_haas/2022-10-17/
DTSTAMP:20260425T054735
UID:69ec9bc71f13b
END:VEVENT
END:VCALENDAR