BEGIN:VCALENDAR
VERSION:2.0
PRODID:-//hacksw/handcal//NONSGML v1.0//EN
CALSCALE:GREGORIAN
BEGIN:VEVENT
LOCATION:Crescent Hill at Hitchcock (Previously Mt. Crescent Ski Area)\, 17026 Snowhill Ln\, Honey Creek\, Iowa 51542
DESCRIPTION:Santa Claus is coming to town\, at Crescent Hill at Hitchcock! Get your photo and see what&#039\;s new at the ski hill this season.
DTSTART:20251224T100000
DTEND:20251224T120000
SUMMARY:Santa&#039\;s Coming to Crescent!
URL;VALUE=URI:https://www.pottconservation.com/calendar/santas_coming_to_crescent/2025-12-24/
DTSTAMP:20260425T211432
UID:69ed7508e0a5b
END:VEVENT
END:VCALENDAR