BEGIN:VCALENDAR
VERSION:2.0
PRODID:-//hacksw/handcal//NONSGML v1.0//EN
CALSCALE:GREGORIAN
BEGIN:VEVENT
LOCATION:Crescent Hill at Hitchcock (Previously Mt. Crescent Ski Area)\, 17026 Snowhill Ln\, Honey Creek\, Iowa 51542
DESCRIPTION:Stop by the ski lodge to pick up&nbsp\;your season pass and grab a bite and a brew before the hill is bustling with activity once the ski area is open for the season. Open to the public.
DTSTART:20251122T130000
DTEND:20251122T180000
SUMMARY:Season Pass Pickup Party &amp\; Ski Swap Fundraiser
URL;VALUE=URI:https://www.pottconservation.com/calendar/season_pass_pickup_party_crescent_hill_ski_patrol_ski_swap_fundraiser/2025-11-22/
DTSTAMP:20260425T192152
UID:69ed5aa08b62a
END:VEVENT
END:VCALENDAR