BEGIN:VCALENDAR
VERSION:2.0
PRODID:-//hacksw/handcal//NONSGML v1.0//EN
CALSCALE:GREGORIAN
BEGIN:VEVENT
LOCATION:Hitchcock Nature Center\, 27792 Ski Hill Loop\, Honey Creek\, Iowa 51542
DESCRIPTION:Join us for one final guided hike of the season and view the early signs of fall in the Loess Hills.
DTSTART:20220920T180000
DTEND:20220920T203000
SUMMARY:September Hitch Hike | Westridge Trail
URL;VALUE=URI:https://www.pottconservation.com/calendar/september_hitch_hike/2022-09-20/
DTSTAMP:20260425T113532
UID:69eced5407914
END:VEVENT
END:VCALENDAR