BEGIN:VCALENDAR
VERSION:2.0
PRODID:-//hacksw/handcal//NONSGML v1.0//EN
CALSCALE:GREGORIAN
BEGIN:VEVENT
LOCATION:Mt. Crescent Ski Area\, 17026 Snowhill Ln\, Honey Creek\, IA 51542
DESCRIPTION:Bring the family out for what may be your last chance to play in the snow! Create fun snow sculptures and enter to win prizes including season passes and lift tickets for next season.
DTSTART:20230312T100000
DTEND:20230312T160000
SUMMARY:Snirt Snow Sculpture Competition
URL;VALUE=URI:https://www.pottconservation.com/calendar/snirt_snow_sculpture_competition/2023-03-12/
DTSTAMP:20260425T134532
UID:69ed0bcc3b4e8
END:VEVENT
END:VCALENDAR