BEGIN:VCALENDAR
VERSION:2.0
PRODID:-//hacksw/handcal//NONSGML v1.0//EN
CALSCALE:GREGORIAN
BEGIN:VEVENT
LOCATION:Hitchcock Nature Center\, 27792 Ski Hill Loop\, Honey Creek\, Iowa 51542
DESCRIPTION:Inspire renewal and new beginnings in your life through this mindful spring equinox experience meant to strengthen your connection to the natural world.
DTSTART:20230325T140000
DTEND:20230325T160000
SUMMARY:Spring Equinox Woodland Wander  | With Dustin Clayton (and special guest\, Lindsay Knieper)
URL;VALUE=URI:https://www.pottconservation.com/calendar/spring_equinox_woodland_wander_with_dustin_clayton/2023-03-25/
DTSTAMP:20260425T133927
UID:69ed0a5fd5eb5
END:VEVENT
END:VCALENDAR