BEGIN:VCALENDAR
VERSION:2.0
PRODID:-//hacksw/handcal//NONSGML v1.0//EN
CALSCALE:GREGORIAN
BEGIN:VEVENT
LOCATION:Hitchcock Nature Center\, 27792 Ski Hill Loop\, Honey Creek\, Iowa 51542
DESCRIPTION:Inspire renewal and new beginnings in your life through this mindful spring equinox experience meant to strengthen your connection to the natural world.
DTSTART:20220326T143000
DTEND:20220326T173000
SUMMARY:Spring Renewal Experience | With Dustin Clayton
URL;VALUE=URI:https://www.pottconservation.com/calendar/spring_renewal_experience_with_dustin_clayton/2022-03-26/
DTSTAMP:20260421T190452
UID:69e810a43529f
END:VEVENT
END:VCALENDAR