BEGIN:VCALENDAR
VERSION:2.0
PRODID:-//hacksw/handcal//NONSGML v1.0//EN
CALSCALE:GREGORIAN
BEGIN:VEVENT
LOCATION:Hitchcock Nature Center\, 27792 Ski Hill Loop\, Honey Creek\, Iowa 51542
DESCRIPTION:Stories\, poems\, and songs shared in and about the natural world.
DTSTART:20251218T180000
DTEND:20251218T193000
SUMMARY:Story Weaver | Festive Folktales
URL;VALUE=URI:https://www.pottconservation.com/calendar/story_weaver_festive_folktales/2025-12-18/
DTSTAMP:20260420T174605
UID:69e6acada9107
END:VEVENT
END:VCALENDAR