BEGIN:VCALENDAR
VERSION:2.0
PRODID:-//hacksw/handcal//NONSGML v1.0//EN
CALSCALE:GREGORIAN
BEGIN:VEVENT
LOCATION:Hitchcock Nature Center\, 27792 Ski Hill Loop\, Honey Creek\, Iowa 51542
DESCRIPTION:Story Weaver\, Stories told in and about the natural world\, in the oral tradition.
DTSTART:20240418T180000
DTEND:20240418T193000
SUMMARY:Story Weaver | April
URL;VALUE=URI:https://www.pottconservation.com/calendar/story_weaver_march_just_passing_through/2024-04-18/
DTSTAMP:20260424T144304
UID:69ebc7c8dc38d
END:VEVENT
END:VCALENDAR