BEGIN:VCALENDAR
VERSION:2.0
PRODID:-//hacksw/handcal//NONSGML v1.0//EN
CALSCALE:GREGORIAN
BEGIN:VEVENT
LOCATION:Hitchcock Nature Center\, 27792 Ski Hill Loop\, Honey Creek\, Iowa 51542
DESCRIPTION:Reviving the art of natured-focused storytelling.
DTSTART:20251030T180000
DTEND:20251030T193000
SUMMARY:Story Weaver | October
URL;VALUE=URI:https://www.pottconservation.com/calendar/story_weaver_october/2025-10-30/
DTSTAMP:20260420T174319
UID:69e6ac07a5e2d
END:VEVENT
END:VCALENDAR