BEGIN:VCALENDAR
VERSION:2.0
PRODID:-//hacksw/handcal//NONSGML v1.0//EN
CALSCALE:GREGORIAN
BEGIN:VEVENT
LOCATION:Hitchcock Nature Center\, 27792 Ski Hill Loop\, Honey Creek\, Iowa 51542
DESCRIPTION:Reviving the art of natured-focused storytelling.
DTSTART:20250918T180000
DTEND:20250918T193000
SUMMARY:Story Weaver | September
URL;VALUE=URI:https://www.pottconservation.com/calendar/story_weaver_september/2025-09-18/
DTSTAMP:20260420T174151
UID:69e6abaf5bb98
END:VEVENT
END:VCALENDAR