BEGIN:VCALENDAR
VERSION:2.0
PRODID:-//hacksw/handcal//NONSGML v1.0//EN
CALSCALE:GREGORIAN
BEGIN:VEVENT
LOCATION:Hitchcock Nature Center\, 27792 Ski Hill Loop\, Honey Creek\, Iowa 51542
DESCRIPTION:Reviving the art of natured-focused storytelling.
DTSTART:20260924T180000
DTEND:20260924T193000
SUMMARY:Story Weaver | September
URL;VALUE=URI:https://www.pottconservation.com/calendar/story_weaver_september/2026-09-24/
DTSTAMP:20260420T191949
UID:69e6c2a520a88
END:VEVENT
END:VCALENDAR