BEGIN:VCALENDAR
VERSION:2.0
PRODID:-//hacksw/handcal//NONSGML v1.0//EN
CALSCALE:GREGORIAN
BEGIN:VEVENT
LOCATION:Hitchcock Nature Center\, 27792 Ski Hill Loop\, Honey Creek\, Iowa 51542
DESCRIPTION:Join Dustin Clayton for a meaningful discussion about the turning of summer to fall and learn how to preserve medicines as tinctures and teas.
DTSTART:20220917T100000
DTEND:20220917T123000
SUMMARY:Summer&#039\;s End Harvest Lore | With Dustin Clayton
URL;VALUE=URI:https://www.pottconservation.com/calendar/summers_end_harvest_lore_with_dustin_clayton/2022-09-17/
DTSTAMP:20260425T113139
UID:69ecec6b3d910
END:VEVENT
END:VCALENDAR