BEGIN:VCALENDAR
VERSION:2.0
PRODID:-//hacksw/handcal//NONSGML v1.0//EN
CALSCALE:GREGORIAN
BEGIN:VEVENT
LOCATION:Mt. Crescent Ski Area\, 17026 Snowhill Ln\, Honey Creek\, IA 51542
DESCRIPTION:Join us for Mt. Crescent&#039\;s last hurrah of the season&mdash\;a FULL day of sledding fun for the family!
DTSTART:20230312T100000
DTEND:20230312T160000
SUMMARY:Sunsational Sunday Sledding at Mt. Crescent
URL;VALUE=URI:https://www.pottconservation.com/calendar/sunsational_sunday_sledding_at_mt_crescent/2023-03-12/
DTSTAMP:20260425T133927
UID:69ed0a5fda565
END:VEVENT
END:VCALENDAR